BEGIN:VCALENDAR
VERSION:2.0
PRODID:-//India&#039;s Best Cycling Store - ECPv6.15.18//NONSGML v1.0//EN
CALSCALE:GREGORIAN
METHOD:PUBLISH
X-WR-CALNAME:India&#039;s Best Cycling Store
X-ORIGINAL-URL:https://ridingoctopus.com
X-WR-CALDESC:Events for India&#039;s Best Cycling Store
REFRESH-INTERVAL;VALUE=DURATION:PT1H
X-Robots-Tag:noindex
X-PUBLISHED-TTL:PT1H
BEGIN:VTIMEZONE
TZID:UTC
BEGIN:STANDARD
TZOFFSETFROM:+0000
TZOFFSETTO:+0000
TZNAME:UTC
DTSTART:20250101T000000
END:STANDARD
END:VTIMEZONE
BEGIN:VEVENT
DTSTART;TZID=UTC:20260425T060000
DTEND;TZID=UTC:20260426T090000
DTSTAMP:20260425T103908
CREATED:20260305T090406Z
LAST-MODIFIED:20260305T090435Z
UID:33422-1777096800-1777194000@ridingoctopus.com
SUMMARY:SANDURO MTB CHALLENGE 7th Edition
DESCRIPTION:
URL:https://ridingoctopus.com/event/sanduro-mtb-challenge-7th-edition/
CATEGORIES:Cycling Races
ATTACH;FMTTYPE=image/jpeg:https://ridingoctopus.com/wp-content/uploads/2026/03/WEB-profile-sanduro26-1.jpg
END:VEVENT
END:VCALENDAR